BEGIN:VCALENDAR
VERSION:2.0
PRODID:-//Hermitage Venansault Football - ECPv6.15.20//NONSGML v1.0//EN
CALSCALE:GREGORIAN
METHOD:PUBLISH
X-ORIGINAL-URL:https://www.venansaultfoot.fr
X-WR-CALDESC:Évènements pour Hermitage Venansault Football
REFRESH-INTERVAL;VALUE=DURATION:PT1H
X-Robots-Tag:noindex
X-PUBLISHED-TTL:PT1H
BEGIN:VTIMEZONE
TZID:Europe/Paris
BEGIN:DAYLIGHT
TZOFFSETFROM:+0100
TZOFFSETTO:+0200
TZNAME:CEST
DTSTART:20210328T010000
END:DAYLIGHT
BEGIN:STANDARD
TZOFFSETFROM:+0200
TZOFFSETTO:+0100
TZNAME:CET
DTSTART:20211031T010000
END:STANDARD
BEGIN:DAYLIGHT
TZOFFSETFROM:+0100
TZOFFSETTO:+0200
TZNAME:CEST
DTSTART:20220327T010000
END:DAYLIGHT
BEGIN:STANDARD
TZOFFSETFROM:+0200
TZOFFSETTO:+0100
TZNAME:CET
DTSTART:20221030T010000
END:STANDARD
BEGIN:DAYLIGHT
TZOFFSETFROM:+0100
TZOFFSETTO:+0200
TZNAME:CEST
DTSTART:20230326T010000
END:DAYLIGHT
BEGIN:STANDARD
TZOFFSETFROM:+0200
TZOFFSETTO:+0100
TZNAME:CET
DTSTART:20231029T010000
END:STANDARD
END:VTIMEZONE
BEGIN:VEVENT
DTSTART;TZID=Europe/Paris:20220624T193000
DTEND;TZID=Europe/Paris:20220624T230000
DTSTAMP:20260423T205353
CREATED:20220619T202239Z
LAST-MODIFIED:20220623T105104Z
UID:3832-1656099000-1656111600@www.venansaultfoot.fr
SUMMARY:Terrasse Musicales acte 1
DESCRIPTION:Nous vous attendons nombreuses et nombreux pour le  lancement des terrasses musicales 2022. \nVous pourrez venir écouter et découvrir \nEL MOTIN \nLA PETITE VOIX \n 
URL:https://www.venansaultfoot.fr/evenement/terrasse-musicales-acte-1/
LOCATION:Place de la mairie de Venansault\, place de mairie\, Venansault\, 851900\, France
CATEGORIES:Concert
ATTACH;FMTTYPE=image/jpeg:https://www.venansaultfoot.fr/wp-content/uploads/2022/06/Terrasses-Musicales-2022.jpg
END:VEVENT
END:VCALENDAR